BEGIN:VCALENDAR
VERSION:2.0
PRODID:-//Squarespace Inc/Squarespace 6//v6//EN
BEGIN:VEVENT
UID:5aa4ca46085229361138532f@squarespace.com
DTSTAMP:20180311T064533Z
DTSTART:20180314T000000Z
DTEND:20180318T010000Z
SUMMARY:Dunedin
GEO:-45.870545;170.499598
LOCATION:The Globe theatre\, 104 London Street\, Dunedin\, OTA\, 9016\, New 
 Zealand
END:VEVENT
END:VCALENDAR
