BEGIN:VCALENDAR
VERSION:2.0
PRODID:-//Squarespace Inc/Squarespace 6//v6//EN
BEGIN:VEVENT
UID:5d9eb8b9965fb51f8c7544db@squarespace.com
DTSTAMP:20191010T045335Z
DTSTART:20191116T010000Z
DTEND:20191116T020000Z
SUMMARY:PALMERSTON NORTH
GEO:-40.358304;175.607622
LOCATION:GLOBE THEATRE\, 312 Main Street\, Palmerston North\, Manawatu-Wang
 anui\, 4410\, New Zealand
END:VEVENT
END:VCALENDAR
