BEGIN:VCALENDAR
VERSION:2.0
PRODID:-//Squarespace Inc/Squarespace 6//v6//EN
BEGIN:VEVENT
UID:5aa4d0d253450a41562eca1e@squarespace.com
DTSTAMP:20180311T065426Z
DTSTART:20180519T014500Z
DTEND:20180520T024500Z
SUMMARY:Auckland
GEO:-36.852763;174.763471
LOCATION:Rangatira at Q Theatre\, 305 Queen Street\, Auckland\, Auckland\, 
 1010\, New Zealand
END:VEVENT
END:VCALENDAR
