BEGIN:VCALENDAR
VERSION:2.0
PRODID:-//Squarespace Inc/Squarespace 6//v6//EN
BEGIN:VEVENT
UID:5aa4cba671c10b34ddda2ef5@squarespace.com
DTSTAMP:20180311T064504Z
DTSTART:20180329T233000Z
DTEND:20180408T233000Z
SUMMARY:Melbourne
GEO:-37.806463;144.966425
LOCATION:Trades Hall - The Archive Room\, 54 Victoria Street\, Carlton\, VI
 C\, 3053\, Australia
END:VEVENT
END:VCALENDAR
